Package: S4Vectors Version: 0.46.0 Maintainer: Hervé Pagès MaintainerEmail: hpages.on.github at gmail.com git_url: https://git.bioconductor.org/packages/S4Vectors git_branch: RELEASE_3_21 git_last_commit: f4a665d git_last_commit_date: 2025-04-15 10:31:14 -0400 (Tue, 15 Apr 2025)