Package: S4Arrays Version: 1.8.0 Maintainer: Hervé Pagès MaintainerEmail: hpages.on.github at gmail.com git_url: https://git.bioconductor.org/packages/S4Arrays git_branch: RELEASE_3_21 git_last_commit: 9f3b480 git_last_commit_date: 2025-04-15 13:15:41 -0400 (Tue, 15 Apr 2025)