Package: Rvisdiff Version: 1.4.0 Command: /home/biocbuild/bbs-3.20-bioc/R/bin/R CMD INSTALL Rvisdiff StartedAt: 2025-01-30 15:08:14 -0500 (Thu, 30 Jan 2025) EndedAt: 2025-01-30 15:08:33 -0500 (Thu, 30 Jan 2025) EllapsedTime: 19.7 seconds RetCode: 0 Status: OK