Package: Rtreemix Version: 1.70.0 Command: /Library/Frameworks/R.framework/Resources/bin/R CMD INSTALL Rtreemix StartedAt: 2025-05-05 15:21:20 -0400 (Mon, 05 May 2025) EndedAt: 2025-05-05 15:23:07 -0400 (Mon, 05 May 2025) EllapsedTime: 107.2 seconds RetCode: 0 Status: OK