Package: Rtpca Version: 1.18.0 Command: rm -rf Rtpca.buildbin-libdir && mkdir Rtpca.buildbin-libdir && /Users/biocbuild/BBS/utils/build-universal.sh Rtpca_1.18.0.tar.gz /Library/Frameworks/R.framework/Resources/bin/R Rtpca.buildbin-libdir StartedAt: 2025-04-22 01:05:55 -0400 (Tue, 22 Apr 2025) EndedAt: 2025-04-22 01:06:11 -0400 (Tue, 22 Apr 2025) EllapsedTime: 16.2 seconds RetCode: 0 Status: OK PackageFile: Rtpca_1.18.0.tgz PackageFileSize: 2.381 MiB