Package: Rtpca Version: 1.18.0 Command: /home/biocbuild/R/R/bin/R CMD INSTALL Rtpca StartedAt: 2025-04-21 20:24:15 -0000 (Mon, 21 Apr 2025) EndedAt: 2025-04-21 20:24:26 -0000 (Mon, 21 Apr 2025) EllapsedTime: 11.4 seconds RetCode: 0 Status: OK