Package: Rsubread Version: 2.22.1 Command: /Library/Frameworks/R.framework/Resources/bin/R CMD INSTALL Rsubread StartedAt: 2025-05-05 15:06:47 -0400 (Mon, 05 May 2025) EndedAt: 2025-05-05 15:08:15 -0400 (Mon, 05 May 2025) EllapsedTime: 87.4 seconds RetCode: 0 Status: OK