Package: Rsubread Version: 2.22.1 Command: /Library/Frameworks/R.framework/Resources/bin/R CMD INSTALL Rsubread StartedAt: 2025-04-21 15:05:38 -0400 (Mon, 21 Apr 2025) EndedAt: 2025-04-21 15:06:53 -0400 (Mon, 21 Apr 2025) EllapsedTime: 74.8 seconds RetCode: 0 Status: OK