Package: Rsubread Version: 2.24.0 Command: rm -rf Rsubread.buildbin-libdir && mkdir Rsubread.buildbin-libdir && /Users/biocbuild/BBS/utils/build-universal.sh Rsubread_2.24.0.tar.gz /Library/Frameworks/R.framework/Resources/bin/R Rsubread.buildbin-libdir StartedAt: 2025-11-01 01:54:34 -0400 (Sat, 01 Nov 2025) EndedAt: 2025-11-01 01:55:45 -0400 (Sat, 01 Nov 2025) EllapsedTime: 71.4 seconds RetCode: 0 Status: OK PackageFile: Rsubread_2.24.0.tgz PackageFileSize: 13.23 MiB