Package: Rsubread Version: 2.22.1 Command: /Library/Frameworks/R.framework/Resources/bin/R CMD INSTALL Rsubread StartedAt: 2025-04-21 15:02:48 -0400 (Mon, 21 Apr 2025) EndedAt: 2025-04-21 15:03:03 -0400 (Mon, 21 Apr 2025) EllapsedTime: 14.1 seconds RetCode: 0 Status: OK