Package: Rsubread Version: 2.22.1 Command: /Library/Frameworks/R.framework/Resources/bin/R CMD INSTALL Rsubread StartedAt: 2025-05-08 15:11:26 -0400 (Thu, 08 May 2025) EndedAt: 2025-05-08 15:12:04 -0400 (Thu, 08 May 2025) EllapsedTime: 37.9 seconds RetCode: 0 Status: OK