Package: Rsubread Version: 2.22.1 Command: /Library/Frameworks/R.framework/Resources/bin/R CMD build --keep-empty-dirs --no-resave-data Rsubread StartedAt: 2025-09-30 08:10:04 -0400 (Tue, 30 Sep 2025) EndedAt: 2025-09-30 08:24:12 -0400 (Tue, 30 Sep 2025) EllapsedTime: 847.5 seconds RetCode: 0 Status: OK PackageFile: Rsubread_2.22.1.tar.gz PackageFileSize: 12.94 MiB