Package: Rsamtools Version: 2.22.0 Command: /Library/Frameworks/R.framework/Resources/bin/R CMD INSTALL Rsamtools StartedAt: 2025-01-02 15:24:59 -0500 (Thu, 02 Jan 2025) EndedAt: 2025-01-02 15:26:41 -0500 (Thu, 02 Jan 2025) EllapsedTime: 102.3 seconds RetCode: 0 Status: OK