Package: Rsamtools Version: 2.22.0 Command: /Library/Frameworks/R.framework/Resources/bin/R CMD check --install=check:Rsamtools.install-out.txt --library=/Library/Frameworks/R.framework/Resources/library --no-vignettes --timings Rsamtools_2.22.0.tar.gz StartedAt: 2025-01-03 09:40:31 -0500 (Fri, 03 Jan 2025) EndedAt: 2025-01-03 09:46:21 -0500 (Fri, 03 Jan 2025) EllapsedTime: 350.1 seconds RetCode: 0 Status: WARNINGS CheckDir: Rsamtools.Rcheck Warnings: 2