Package: Rqc Version: 1.40.0 Command: rm -rf Rqc.buildbin-libdir && mkdir Rqc.buildbin-libdir && F:\biocbuild\bbs-3.20-bioc\R\bin\R.exe CMD INSTALL --build --library=Rqc.buildbin-libdir Rqc_1.40.0.tar.gz StartedAt: 2025-01-31 09:29:15 -0500 (Fri, 31 Jan 2025) EndedAt: 2025-01-31 09:30:29 -0500 (Fri, 31 Jan 2025) EllapsedTime: 74.4 seconds RetCode: 0 Status: OK PackageFile: Rqc_1.40.0.zip PackageFileSize: 1.047 MiB