Package: Rqc Version: 1.40.0 Command: /home/biocbuild/bbs-3.20-bioc/R/bin/R CMD check --install=check:Rqc.install-out.txt --library=/home/biocbuild/bbs-3.20-bioc/R/site-library --timings Rqc_1.40.0.tar.gz StartedAt: 2025-01-31 01:47:40 -0500 (Fri, 31 Jan 2025) EndedAt: 2025-01-31 01:54:01 -0500 (Fri, 31 Jan 2025) EllapsedTime: 381.4 seconds RetCode: 0 Status: OK CheckDir: Rqc.Rcheck Warnings: 0