Package: Rqc Version: 1.40.0 Command: /Library/Frameworks/R.framework/Resources/bin/R CMD INSTALL Rqc StartedAt: 2025-02-03 16:04:40 -0500 (Mon, 03 Feb 2025) EndedAt: 2025-02-03 16:06:33 -0500 (Mon, 03 Feb 2025) EllapsedTime: 112.9 seconds RetCode: 0 Status: OK