Package: Rqc Version: 1.40.0 Command: /Library/Frameworks/R.framework/Resources/bin/R CMD build --keep-empty-dirs --no-resave-data Rqc StartedAt: 2025-02-03 21:51:05 -0500 (Mon, 03 Feb 2025) EndedAt: 2025-02-03 21:54:12 -0500 (Mon, 03 Feb 2025) EllapsedTime: 187.1 seconds RetCode: 0 Status: OK PackageFile: Rqc_1.40.0.tar.gz PackageFileSize: 1.31 MiB