Package: Rqc Version: 1.40.0 Command: /home/biocbuild/R/R/bin/R CMD INSTALL Rqc StartedAt: 2024-11-19 21:02:53 -0000 (Tue, 19 Nov 2024) EndedAt: 2024-11-19 21:04:14 -0000 (Tue, 19 Nov 2024) EllapsedTime: 81.6 seconds RetCode: 0 Status: OK