Package: Rqc Version: 1.40.0 Command: /Library/Frameworks/R.framework/Resources/bin/R CMD check --install=check:Rqc.install-out.txt --library=/Library/Frameworks/R.framework/Resources/library --no-vignettes --timings Rqc_1.40.0.tar.gz StartedAt: 2025-02-05 08:09:59 -0500 (Wed, 05 Feb 2025) EndedAt: 2025-02-05 08:17:06 -0500 (Wed, 05 Feb 2025) EllapsedTime: 427.0 seconds RetCode: 0 Status: OK CheckDir: Rqc.Rcheck Warnings: 0