Package: Rqc Version: 1.40.0 Command: /Library/Frameworks/R.framework/Resources/bin/R CMD build --keep-empty-dirs --no-resave-data Rqc StartedAt: 2025-01-31 06:49:53 -0500 (Fri, 31 Jan 2025) EndedAt: 2025-01-31 06:51:43 -0500 (Fri, 31 Jan 2025) EllapsedTime: 109.6 seconds RetCode: 0 Status: OK PackageFile: Rqc_1.40.0.tar.gz PackageFileSize: 1.31 MiB