Package: Rqc Version: 1.40.0 Command: rm -rf Rqc.buildbin-libdir && mkdir Rqc.buildbin-libdir && /Users/biocbuild/BBS/utils/build-universal.sh Rqc_1.40.0.tar.gz /Library/Frameworks/R.framework/Resources/bin/R Rqc.buildbin-libdir StartedAt: 2025-02-01 16:37:40 -0500 (Sat, 01 Feb 2025) EndedAt: 2025-02-01 16:38:49 -0500 (Sat, 01 Feb 2025) EllapsedTime: 68.8 seconds RetCode: 0 Status: OK PackageFile: Rqc_1.40.0.tgz PackageFileSize: 1.439 MiB