Package: RolDE Version: 1.10.0 Command: /home/biocbuild/R/R/bin/R CMD check --install=check:RolDE.install-out.txt --library=/home/biocbuild/R/R/site-library --no-vignettes --timings RolDE_1.10.0.tar.gz StartedAt: 2025-01-31 09:51:59 -0000 (Fri, 31 Jan 2025) EndedAt: 2025-01-31 09:56:55 -0000 (Fri, 31 Jan 2025) EllapsedTime: 295.2 seconds RetCode: 0 Status: OK CheckDir: RolDE.Rcheck Warnings: 0