Package: Rmmquant Version: 1.26.0 Maintainer: Zytnicki Matthias MaintainerEmail: matthias.zytnicki at inra.fr git_url: https://git.bioconductor.org/packages/Rmmquant git_branch: RELEASE_3_21 git_last_commit: 7b3d5f8 git_last_commit_date: 2025-04-15 11:34:28 -0400 (Tue, 15 Apr 2025)