Package: Rmagpie Version: 1.64.0 Command: /Library/Frameworks/R.framework/Resources/bin/R CMD INSTALL Rmagpie StartedAt: 2025-04-21 15:12:27 -0400 (Mon, 21 Apr 2025) EndedAt: 2025-04-21 15:12:46 -0400 (Mon, 21 Apr 2025) EllapsedTime: 19.0 seconds RetCode: 0 Status: OK