Package: Rmagpie Version: 1.64.0 Command: /Library/Frameworks/R.framework/Resources/bin/R CMD build --keep-empty-dirs --no-resave-data Rmagpie StartedAt: 2025-04-21 18:11:23 -0400 (Mon, 21 Apr 2025) EndedAt: 2025-04-21 18:12:08 -0400 (Mon, 21 Apr 2025) EllapsedTime: 44.6 seconds RetCode: 0 Status: OK PackageFile: Rmagpie_1.64.0.tar.gz PackageFileSize: 464.3 KiB