Package: Rmagpie Version: 1.64.0 Command: /Library/Frameworks/R.framework/Resources/bin/R CMD check --install=check:Rmagpie.install-out.txt --library=/Library/Frameworks/R.framework/Resources/library --no-vignettes --timings Rmagpie_1.64.0.tar.gz StartedAt: 2025-04-21 21:16:36 -0400 (Mon, 21 Apr 2025) EndedAt: 2025-04-21 21:17:09 -0400 (Mon, 21 Apr 2025) EllapsedTime: 32.4 seconds RetCode: 0 Status: OK CheckDir: Rmagpie.Rcheck Warnings: 0