Package: Rmagpie Version: 1.64.0 Command: /Library/Frameworks/R.framework/Resources/bin/R CMD build --keep-empty-dirs --no-resave-data Rmagpie StartedAt: 2025-05-09 07:04:30 -0400 (Fri, 09 May 2025) EndedAt: 2025-05-09 07:05:13 -0400 (Fri, 09 May 2025) EllapsedTime: 42.7 seconds RetCode: 0 Status: OK PackageFile: Rmagpie_1.64.0.tar.gz PackageFileSize: 464.5 KiB