Package: Rmagpie Version: 1.64.0 Maintainer: Camille Maumet MaintainerEmail: Rmagpie at gmail.com git_url: https://git.bioconductor.org/packages/Rmagpie git_branch: RELEASE_3_21 git_last_commit: b01eff1 git_last_commit_date: 2025-04-15 09:44:50 -0400 (Tue, 15 Apr 2025)