Package: Risa Version: 1.48.1 Command: /home/biocbuild/R/R/bin/R CMD build --keep-empty-dirs --no-resave-data Risa StartedAt: 2025-01-31 02:11:44 -0000 (Fri, 31 Jan 2025) EndedAt: 2025-01-31 02:13:14 -0000 (Fri, 31 Jan 2025) EllapsedTime: 90.1 seconds RetCode: 0 Status: OK PackageFile: Risa_1.48.1.tar.gz PackageFileSize: 2.101 MiB