Package: Rigraphlib Version: 1.2.0 Command: /home/biocbuild/R/R/bin/R CMD INSTALL Rigraphlib StartedAt: 2025-11-24 21:06:50 -0000 (Mon, 24 Nov 2025) EndedAt: 2025-11-24 21:11:40 -0000 (Mon, 24 Nov 2025) EllapsedTime: 290.0 seconds RetCode: 0 Status: OK