Package: Rigraphlib Version: 1.2.0 Command: /home/biocbuild/bbs-3.22-bioc/R/bin/R CMD INSTALL Rigraphlib StartedAt: 2025-11-20 15:55:26 -0500 (Thu, 20 Nov 2025) EndedAt: 2025-11-20 15:58:44 -0500 (Thu, 20 Nov 2025) EllapsedTime: 198.0 seconds RetCode: 0 Status: OK