Package: Rigraphlib Version: 1.2.0 Command: /home/biocbuild/bbs-3.22-bioc/R/bin/R CMD check --install=check:Rigraphlib.install-out.txt --library=/home/biocbuild/bbs-3.22-bioc/R/site-library --timings Rigraphlib_1.2.0.tar.gz StartedAt: 2025-11-21 03:55:50 -0500 (Fri, 21 Nov 2025) EndedAt: 2025-11-21 03:56:06 -0500 (Fri, 21 Nov 2025) EllapsedTime: 16.0 seconds RetCode: 0 Status: WARNINGS CheckDir: Rigraphlib.Rcheck Warnings: 1