Package: Rigraphlib Version: 1.0.0 Command: /home/biocbuild/bbs-3.21-bioc/R/bin/R CMD INSTALL Rigraphlib StartedAt: 2025-10-05 15:05:05 -0400 (Sun, 05 Oct 2025) EndedAt: 2025-10-05 15:08:25 -0400 (Sun, 05 Oct 2025) EllapsedTime: 200.0 seconds RetCode: 0 Status: OK