Package: Rigraphlib Version: 1.0.0 Command: /home/biocbuild/bbs-3.21-bioc/R/bin/R CMD build --keep-empty-dirs --no-resave-data Rigraphlib StartedAt: 2025-10-05 19:31:37 -0400 (Sun, 05 Oct 2025) EndedAt: 2025-10-05 19:31:46 -0400 (Sun, 05 Oct 2025) EllapsedTime: 9.0 seconds RetCode: 0 Status: OK PackageFile: Rigraphlib_1.0.0.tar.gz PackageFileSize: 4.323 MiB