Package: Rigraphlib Version: 1.0.0 Command: /Library/Frameworks/R.framework/Resources/bin/R CMD INSTALL Rigraphlib StartedAt: 2025-10-13 15:10:12 -0400 (Mon, 13 Oct 2025) EndedAt: 2025-10-13 15:14:31 -0400 (Mon, 13 Oct 2025) EllapsedTime: 259.1 seconds RetCode: 0 Status: OK