Package: Rigraphlib Version: 1.0.0 Command: /Library/Frameworks/R.framework/Resources/bin/R CMD build --keep-empty-dirs --no-resave-data Rigraphlib StartedAt: 2025-10-13 22:02:43 -0400 (Mon, 13 Oct 2025) EndedAt: 2025-10-13 22:03:26 -0400 (Mon, 13 Oct 2025) EllapsedTime: 43.0 seconds RetCode: 0 Status: OK PackageFile: Rigraphlib_1.0.0.tar.gz PackageFileSize: 4.323 MiB