Package: Rigraphlib Version: 1.0.0 Command: /Library/Frameworks/R.framework/Resources/bin/R CMD INSTALL Rigraphlib StartedAt: 2025-09-29 15:19:45 -0400 (Mon, 29 Sep 2025) EndedAt: 2025-09-29 15:23:38 -0400 (Mon, 29 Sep 2025) EllapsedTime: 232.9 seconds RetCode: 0 Status: OK