Package: Rigraphlib Version: 1.0.0 Command: rm -rf Rigraphlib.buildbin-libdir && mkdir Rigraphlib.buildbin-libdir && /Users/biocbuild/BBS/utils/build-universal.sh Rigraphlib_1.0.0.tar.gz /Library/Frameworks/R.framework/Resources/bin/R Rigraphlib.buildbin-libdir StartedAt: 2025-10-01 20:08:28 -0400 (Wed, 01 Oct 2025) EndedAt: 2025-10-01 20:12:35 -0400 (Wed, 01 Oct 2025) EllapsedTime: 247.2 seconds RetCode: 0 Status: OK PackageFile: Rigraphlib_1.0.0.tgz PackageFileSize: 7.853 MiB