Package: RiboProfiling Version: 1.38.0 Command: chmod a+r RiboProfiling -R && E:\biocbuild\bbs-3.21-bioc\R\bin\R.exe CMD build --keep-empty-dirs --no-resave-data RiboProfiling StartedAt: 2025-08-14 21:45:47 -0400 (Thu, 14 Aug 2025) EndedAt: 2025-08-14 21:50:06 -0400 (Thu, 14 Aug 2025) EllapsedTime: 259.4 seconds RetCode: 0 Status: OK PackageFile: RiboProfiling_1.38.0.tar.gz PackageFileSize: 4.421 MiB