Package: RiboDiPA Version: 1.16.0 Command: /home/biocbuild/bbs-3.21-bioc/R/bin/R CMD build --keep-empty-dirs --no-resave-data RiboDiPA StartedAt: 2025-10-08 19:27:31 -0400 (Wed, 08 Oct 2025) EndedAt: 2025-10-08 19:33:21 -0400 (Wed, 08 Oct 2025) EllapsedTime: 350.3 seconds RetCode: 0 Status: OK PackageFile: RiboDiPA_1.16.0.tar.gz PackageFileSize: 1.759 MiB