Package: Rhtslib Version: 3.2.0 Command: set _R_INSTALL_TIME_PATCHES_=no&& F:\biocbuild\bbs-3.20-bioc\R\bin\R.exe CMD INSTALL Rhtslib StartedAt: 2025-01-30 15:25:59 -0500 (Thu, 30 Jan 2025) EndedAt: 2025-01-30 15:27:51 -0500 (Thu, 30 Jan 2025) EllapsedTime: 111.7 seconds RetCode: 0 Status: OK