Package: Rhtslib
Version: 3.1.0
Command: set _R_INSTALL_TIME_PATCHES_=no&& rm -rf Rhtslib.buildbin-libdir && mkdir Rhtslib.buildbin-libdir && C:\Users\biocbuild\bbs-3.20-bioc\R\bin\R.exe CMD INSTALL --build --library=Rhtslib.buildbin-libdir Rhtslib_3.1.0.tar.gz
StartedAt: 2024-07-16 06:39:26 -0400 (Tue, 16 Jul 2024)
EndedAt: 2024-07-16 06:40:24 -0400 (Tue, 16 Jul 2024)
EllapsedTime: 57.5 seconds
RetCode: 0
Status: OK
PackageFile: Rhtslib_3.1.0.zip
PackageFileSize: 6.142 <A href="http://en.wikipedia.org/wiki/MiB" target="_blank">MiB</A>