Package: Rhtslib
Version: 3.2.0
Command: /Library/Frameworks/R.framework/Resources/bin/R CMD build --keep-empty-dirs --no-resave-data Rhtslib
StartedAt: 2024-11-19 18:22:07 -0500 (Tue, 19 Nov 2024)
EndedAt: 2024-11-19 18:23:06 -0500 (Tue, 19 Nov 2024)
EllapsedTime: 59.3 seconds
RetCode: 0
Status: OK
PackageFile: Rhtslib_3.2.0.tar.gz
PackageFileSize: 4.91 <A href="http://en.wikipedia.org/wiki/MiB" target="_blank">MiB</A>