Package: Rhtslib
Version: 3.2.0
Command: /Library/Frameworks/R.framework/Resources/bin/R CMD build --keep-empty-dirs --no-resave-data Rhtslib
StartedAt: 2024-11-08 18:48:50 -0500 (Fri, 08 Nov 2024)
EndedAt: 2024-11-08 18:49:07 -0500 (Fri, 08 Nov 2024)
EllapsedTime: 17.2 seconds
RetCode: 0
Status: OK
PackageFile: Rhtslib_3.2.0.tar.gz
PackageFileSize: 4.91 <A href="http://en.wikipedia.org/wiki/MiB" target="_blank">MiB</A>