Package: Rhtslib Version: 3.2.0 Command: /Library/Frameworks/R.framework/Resources/bin/R CMD INSTALL Rhtslib StartedAt: 2025-01-30 15:14:08 -0500 (Thu, 30 Jan 2025) EndedAt: 2025-01-30 15:14:42 -0500 (Thu, 30 Jan 2025) EllapsedTime: 34.0 seconds RetCode: 0 Status: OK