Package: Rhtslib Version: 3.2.0 Command: /Library/Frameworks/R.framework/Resources/bin/R CMD check --install=check:Rhtslib.install-out.txt --library=/Library/Frameworks/R.framework/Resources/library --no-vignettes --timings Rhtslib_3.2.0.tar.gz StartedAt: 2025-02-01 06:41:41 -0500 (Sat, 01 Feb 2025) EndedAt: 2025-02-01 06:42:05 -0500 (Sat, 01 Feb 2025) EllapsedTime: 23.4 seconds RetCode: 0 Status: OK CheckDir: Rhtslib.Rcheck Warnings: 0