Package: Rhtslib Version: 3.2.0 Command: rm -rf Rhtslib.buildbin-libdir && mkdir Rhtslib.buildbin-libdir && /Users/biocbuild/BBS/utils/build-universal.sh Rhtslib_3.2.0.tar.gz /Library/Frameworks/R.framework/Resources/bin/R Rhtslib.buildbin-libdir StartedAt: 2025-02-01 16:30:15 -0500 (Sat, 01 Feb 2025) EndedAt: 2025-02-01 16:30:55 -0500 (Sat, 01 Feb 2025) EllapsedTime: 39.9 seconds RetCode: 0 Status: OK PackageFile: Rhtslib_3.2.0.tgz PackageFileSize: 3.142 MiB