Package: Rhisat2 Version: 1.22.0 Command: /home/biocbuild/R/R/bin/R CMD INSTALL Rhisat2 StartedAt: 2025-02-03 20:51:24 -0000 (Mon, 03 Feb 2025) EndedAt: 2025-02-03 20:56:06 -0000 (Mon, 03 Feb 2025) EllapsedTime: 282.7 seconds RetCode: 0 Status: OK