Package: Rhdf5lib Version: 1.30.0 Command: /home/biocbuild/bbs-3.21-bioc/R/bin/R CMD INSTALL Rhdf5lib StartedAt: 2025-10-08 15:02:18 -0400 (Wed, 08 Oct 2025) EndedAt: 2025-10-08 15:06:08 -0400 (Wed, 08 Oct 2025) EllapsedTime: 229.4 seconds RetCode: 0 Status: OK